BEGIN:VCALENDAR
VERSION:2.0
PRODID:-//Advanced Chiropractic - ECPv4.9.3.1//NONSGML v1.0//EN
CALSCALE:GREGORIAN
METHOD:PUBLISH
X-WR-CALNAME:Advanced Chiropractic
X-ORIGINAL-URL:https://nsweightloss.com
X-WR-CALDESC:Events for Advanced Chiropractic
BEGIN:VEVENT
DTSTART;TZID=UTC+0:20170127T080000
DTEND;TZID=UTC+0:20170127T170000
DTSTAMP:20260421T210539
CREATED:20170119T194019Z
LAST-MODIFIED:20170126T194601Z
UID:4186-1485504000-1485536400@nsweightloss.com
SUMMARY:Test event
DESCRIPTION:
URL:https://nsweightloss.com/event/test-event/
END:VEVENT
END:VCALENDAR